BEGIN:VCALENDAR
VERSION:2.0
PRODID:SchoolNow
CALSCALE:GREGORIAN
BEGIN:VEVENT
UID:738a63d8-3fe8-11f1-9a7a-0a58a9feac02
DTSTAMP:20260424T141822Z
SUMMARY:Live The Good Opportunity Grounds Projects
LOCATION:Sisters of Notre Dame de Namur 699 East Columbia Avenue Cincinnati
 \, Ohio 45215
URL;VALUE=URI:https://www.sndohio.org/calendar/9016403/live-the-good-opport
 unity-grounds-projects
DTSTART:20260516T130000Z
DTEND:20260516T150000Z
END:VEVENT
END:VCALENDAR
