BEGIN:VCALENDAR
VERSION:2.0
PRODID:SchoolNow
CALSCALE:GREGORIAN
BEGIN:VEVENT
UID:26512bb0-65ab-11ef-b051-0a58a9feac02
DTSTAMP:20240829T020522Z
SUMMARY:Light in the City Dayton
DESCRIPTION:The Sisters of Notre Dame de Namur are proud to sponsor Light i
 n the City Dayton on September 5th at 7 p.m. at the Levitt Pavilion Dayton
 . This year’s concert will feature musical artists Joseph O'Brien and Bu
 ilding 429.
LOCATION:134 S Main St\, Dayton\, OH 45402
URL;VALUE=URI:https://www.sndohio.org/calendar/6478436/light-in-the-city-da
 yton
DTSTART:20240905T230000Z
DTEND:20240906T020000Z
END:VEVENT
END:VCALENDAR
